Workbook

Sheet Balancete
A1: CBDN - CONFEDERAÇÃO BRASILEIRA DE DESPORTOS NA NEVE
C2: Acumulado | D2: 46022 | E2: 45991 | F2: 45961 | G2: 45930 | H2: 45900 | I2: 45869 | J2: 45838 | K2: 45808 | L2: 45777 | M2: 45747 | N2: 45716 | O2: 45688
B3: A T I V O
B4: CIRCULANTE | C4: =C2 -> Acumulado | D4: 46022 | E4: 45991 | F4: 45961 | G4: 45930 | H4: 45900 | I4: 45869 | J4: 45838 | K4: 45808 | L4: 45777 | M4: 45747 | N4: 45716 | O4: 45688
A5: 2 | B5: Caixa em US$ | D5: 0 | E5: 0 | F5: 0 | G5: 0 | H5: 0 | I5: 0 | J5: 0 | K5: 0 | L5: 0 | M5: 7256.46 | N5: 7391.19 | O5: 7367.56
A6: 243 | B6: Caixa em Euros | D6: 0 | E6: 0 | F6: 0 | G6: 0 | H6: 0 | I6: 0 | J6: 0 | K6: 0 | L6: 0 | M6: 167.66 | N6: 164.5 | O6: 163.93
A7: 345 | B7: Banco Transitoria | D7: 0 | E7: 0 | F7: 0 | G7: 0 | H7: 0 | I7: 0 | J7: 0 | K7: 0 | L7: 0 | M7: 0 | N7: 0 | O7: 2426687.6
A8: 666 | B8: Banco do Brasil conta 880001173 USD | D8: 0 | E8: 0 | F8: 0 | G8: 0 | H8: 0 | I8: 0 | J8: 0 | K8: 0 | L8: 0 | M8: 1974606.4 | N8: 2085751.4 | O8: 0
A9: 256 | B9: Banco Brasil-C/C 12.733-7 | D9: 0 | E9: 0 | F9: 0 | G9: 0 | H9: 0 | I9: 0 | J9: 0 | K9: 0 | L9: 0 | M9: 123.9 | N9: 203.5 | O9: 79
A10: 324 | B10: Banco do Brasil C/C 14936-5 | D10: 0 | E10: 0 | F10: 0 | G10: 0 | H10: 0 | I10: 0 | J10: 0 | K10: 0 | L10: 0 | M10: 0 | N10: 73.48 | O10: 148.98
A11: 360 | B11: C.E.F. Ag.3097 C/ 863-1 | D11: 0 | E11: 0 | F11: 0 | G11: 0 | H11: 0 | I11: 0 | J11: 0 | K11: 0 | L11: 0 | M11: 0 | N11: 50 | O11: 0
A12: 414 | B12: Caixa Economica Federal ag 3097 C/1255-8 | D12: 0 | E12: 0 | F12: 0 | G12: 0 | H12: 0 | I12: 0 | J12: 0 | K12: 0 | L12: 0 | M12: 0 | N12: 0 | O12: 0
A13: 478 | B13: Caixa Economica Federal ag 3097 C/1360-0 | D13: 0 | E13: 0 | F13: 0 | G13: 0 | H13: 0 | I13: 0 | J13: 0 | K13: 0 | L13: 0 | M13: 0 | N13: 0 | O13: 0
A14: 493 | B14: Caixa Economica Federal ag 3097 C/1395-3 | D14: 0 | E14: 0 | F14: 0 | G14: 0 | H14: 0 | I14: 0 | J14: 0 | K14: 0 | L14: 0 | M14: 0 | N14: 0 | O14: 0
A15: 500 | B15: Caixa Economica Federal ag 3097 C/1414-3 | D15: 0 | E15: 0 | F15: 0 | G15: 0 | H15: 0 | I15: 0 | J15: 0 | K15: 0 | L15: 0 | M15: 0 | N15: 0 | O15: 0
A16: 518 | B16: Caixa Economica Federal ag 3097 C/1416-0 | D16: 0 | E16: 0 | F16: 0 | G16: 0 | H16: 0 | I16: 0 | J16: 0 | K16: 0 | L16: 0 | M16: 0 | N16: 0 | O16: 0
... A39: 656 | B39: Banco do Brasil C/C 19568-5 | D39: 0 | E39: 0 | F39: 0 | G39: 0 | H39: 0 | I39: 0 | J39: 0 | K39: 0 | L39: 0 | M39: 0 | N39: 0 | O39: 0
A40: 685 | B40: Caixa Economica Federal Ag 3097 C 1742-8 | D40: 0 | E40: 0 | F40: 0 | G40: 0 | H40: 0 | I40: 0 | J40: 0 | K40: 0 | L40: 0 | M40: 0 | N40: 50.25 | O40: 119.25
A41: 686 | B41: Caixa Economica Federal Ag 3097 C 1743-6 | D41: 0 | E41: 0 | F41: 0 | G41: 0 | H41: 0 | I41: 0 | J41: 0 | K41: 0 | L41: 0 | M41: 177.1 | N41: 246.1 | O41: 115.1
A42: 746 | B42: Caixa Economica Federal Ag 3097 C 1891-2 | D42: 0 | E42: 0 | F42: 0 | G42: 0 | H42: 0 | I42: 0 | J42: 0 | K42: 0 | L42: 0 | M42: 3245.73 | N42: 7086.82 | O42: 30123.3
A43: 749 | B43: Caixa Economica Federal Ag 3097 C 1896-3 | D43: 0 | E43: 0 | F43: 0 | G43: 0 | H43: 0 | I43: 0 | J43: 0 | K43: 0 | L43: 0 | M43: 0 | N43: 0 | O43: 0
A44: 750 | B44: Caixa Economica Federal Ag 3097 C 1897-1 | D44: 0 | E44: 0 | F44: 0 | G44: 0 | H44: 0 | I44: 0 | J44: 0 | K44: 0 | L44: 0 | M44: 1449.91 | N44: 12154.9 | O44: 21744.44
A45: 751 | B45: Caixa Economica Federal Ag 3097 C 1898-0 | D45: 0 | E45: 0 | F45: 0 | G45: 0 | H45: 0 | I45: 0 | J45: 0 | K45: 0 | L45: 0 | M45: 8.15 | N45: 81.15 | O45: 96.65
A46: 412 | B46: CEF Ag 3097 P1388000739160122-6 (7002-4) | D46: 0 | E46: 0 | F46: 0 | G46: 0 | H46: 0 | I46: 0 | J46: 0 | K46: 0 | L46: 0 | M46: 0 | N46: 0 | O46: 0
A47: 477 | B47: CEF Ag 3097 P1388000739112248-4 (8024-0) | D47: 0 | E47: 0 | F47: 0 | G47: 0 | H47: 0 | I47: 0 | J47: 0 | K47: 0 | L47: 0 | M47: 65949.92 | N47: 85447.78 | O47: 69996
A48: 534 | B48: CEF Ag 3097 P1388000739031552-1 (8544-7) | D48: 0 | E48: 0 | F48: 0 | G48: 0 | H48: 0 | I48: 0 | J48: 0 | K48: 0 | L48: 0 | M48: 0 | N48: 0 | O48: 0
A49: 583 | B49: CEF Ag 3097 P1388000739112249-2 (8826-8) | D49: 0 | E49: 0 | F49: 0 | G49: 0 | H49: 0 | I49: 0 | J49: 0 | K49: 0 | L49: 0 | M49: 0 | N49: 0 | O49: 0
A50: 581 | B50: CEF Ag 3097 P1388000739112251-4 (8827-6) | D50: 0 | E50: 0 | F50: 0 | G50: 0 | H50: 0 | I50: 0 | J50: 0 | K50: 0 | L50: 0 | M50: 0 | N50: 0 | O50: 0
A51: 616 | B51: CEF Ag 3097 P1388000739112252-2 (9425-0) | D51: 0 | E51: 0 | F51: 0 | G51: 0 | H51: 0 | I51: 0 | J51: 0 | K51: 0 | L51: 0 | M51: 352950.86 | N51: 453298.27 | O51: 199996
A52: 687 | B52: CEF Ag 3097 P1388000738958801-3 (9790-9) | D52: 0 | E52: 0 | F52: 0 | G52: 0 | H52: 0 | I52: 0 | J52: 0 | K52: 0 | L52: 0 | M52: 0 | N52: 0 | O52: 0
A53: 681 | B53: CEF Ag 3097 P1388000738943176-9 (9791-7) | D53: 0 | E53: 0 | F53: 0 | G53: 0 | H53: 0 | I53: 0 | J53: 0 | K53: 0 | L53: 0 | M53: 0 | N53: 0 | O53: 0
A54: 742 | B54: CEF Ag 3097 P 1388 000763277356-9 | D54: 0 | E54: 0 | F54: 0 | G54: 0 | H54: 0 | I54: 0 | J54: 0 | K54: 0 | L54: 0 | M54: 52.71 | N54: 52.41 | O54: 52.06
A55: 743 | B55: CEF Ag 3097 P 1388 000763277179-5 | D55: 0 | E55: 0 | F55: 0 | G55: 0 | H55: 0 | I55: 0 | J55: 0 | K55: 0 | L55: 0 | M55: 226699.03 | N55: 270323.74 | O55: 568561.34
A56: 744 | B56: CEF Ag 3097 P 1388 000763277271-6 | D56: 0 | E56: 0 | F56: 0 | G56: 0 | H56: 0 | I56: 0 | J56: 0 | K56: 0 | L56: 0 | M56: 58.72 | N56: 58.38 | O56: 5062
A57: 745 | B57: CEF Ag 3097 P 1388 000763277513-8 | D57: 0 | E57: 0 | F57: 0 | G57: 0 | H57: 0 | I57: 0 | J57: 0 | K57: 0 | L57: 0 | M57: 52.71 | N57: 52.41 | O57: 52.06
A58: 697 | B58: Aplicação Rende Fácil Conta 8004-7 BB | D58: 0 | E58: 0 | F58: 0 | G58: 0 | H58: 0 | I58: 0 | J58: 0 | K58: 0 | L58: 0 | M58: 177060.26 | N58: 209111.73 | O58: 37049.01
A59: 717 | B59: Aplicação Fundo SLI Conta 21027-7 BB | D59: 0 | E59: 0 | F59: 0 | G59: 0 | H59: 0 | I59: 0 | J59: 0 | K59: 0 | L59: 0 | M59: 8856.88 | N59: 8793.12 | O59: 8728.56
A60: 741 | B60: Aplicação Fundo SLI Conta 21026-9 BB | D60: 0 | E60: 0 | F60: 0 | G60: 0 | H60: 0 | I60: 0 | J60: 0 | K60: 0 | L60: 0 | M60: 0 | N60: 0 | O60: 0
A61: 674 | B61: Aplicação FIX Conta 19566-9 BB | D61: 0 | E61: 0 | F61: 0 | G61: 0 | H61: 0 | I61: 0 | J61: 0 | K61: 0 | L61: 0 | M61: 7067.66 | N61: 7010.88 | O61: 6953.32
A62: 675 | B62: Aplicação FIX Conta 19567-7 BB | D62: 0 | E62: 0 | F62: 0 | G62: 0 | H62: 0 | I62: 0 | J62: 0 | K62: 0 | L62: 0 | M62: 39.34 | N62: 39.02 | O62: 38.7
...

Sheet Provisão Piva e CPB
B3: PROVISÃO PIVA | C3: 45658 | D3: 45689 | E3: 45717 | F3: 45748 | G3: 45778 | H3: 45809 | I3: 45839 | J3: 45870 | K3: 45901 | L3: 45931 | M3: 45962 | N3: 45992
B4: RECEITA COB | C4: 364128.22 | D4: 604150.33 | E4: 265944.93 | F4: 0 | G4: 0 | H4: 0 | I4: 0 | J4: 0 | K4: 0 | L4: 0 | M4: 0 | N4: 0 | P4: Receita | Q4: =SUM(C4:N4)+C8 -> 2511722.5 | R4: (Adt. total de Projeto COB)
B5: DESPESA COB | C5: =SUM(Balancete!O245:O255) -> 1220900.3 | D5: =SUM(Balancete!N245:N256) -> 645930.97 | E5: =SUM(Balancete!M245:M255) -> 456452.54 | F5: =SUM(Balancete!L245:L255) -> 0 | G5: =SUM(Balancete!K245:K255) -> 0 | H5: =SUM(Balancete!J245:J255) -> 0 | I5: =SUM(Balancete!I245:I255) -> 0 | J5: =SUM(Balancete!H242:H256) -> 0 | K5: =SUM(Balancete!G245:G255) -> 0 | L5: =SUM(Balancete!F245:F255) -> 0 | M5: =SUM(Balancete!E245:E255) -> 0 | N5: =SUM(Balancete!D245:D255) -> 0 | P5: Despesa | Q5: =SUM(C5:N6) -> 2329578.3 | R5: (Receita realizada)
B6: ATIVOS FIXOS ADQUIRIDOS | C6: 0 | D6: 0 | E6: 6294.49 | F6: 0 | G6: 0 | H6: 0 | I6: 0 | J6: 0 | K6: 0 | L6: 0 | M6: 0 | N6: 0 | P6: Saldo | Q6: =Q4-Q5 -> 182144.23 | R6: =IF(Q6>=0,"Valor lançado no Passivo - 359","Valor lançado no Ativo - 409") -> Valor lançado no Passivo - 359
B7: SALDO | C7: =C4-C5-C6 -> -856772.1 | D7: =D4-D5-D6 -> -41780.64 | E7: =E4-E5-E6 -> -196802.1 | F7: =F4-F5-F6 -> 0 | G7: =G4-G5-G6 -> 0 | H7: =H4-H5-H6 -> 0 | I7: =I4-I5-I6 -> 0 | J7: =J4-J5-J6 -> 0 | ... N7: =N4-N5-N6 -> 0
B8: (-) PROVISÃO DO MÊS ANTERIOR | C8: 1277499.1 | D8: =C9 -> 420726.97 | E8: =D9 -> 378946.33 | G8: =F9 -> 0 | H8: =G9 -> 0 | I8: =H9 -> 0 | J8: =I9 -> 0 | K8: =J9 -> 0 | L8: =K9 -> 0 | M8: =L9 -> 0 | N8: =M9 -> 0
B9: PROVISÃO ATUAL | C9: =C8+C7 -> 420726.97 | D9: =D8+D7 -> 378946.33 | E9: =E8+E7 -> 182144.23 | F9: =F8+F7 -> 0 | G9: =G7+G8 -> 0 | H9: =H7+H8 -> 0 | I9: =I8+I7 -> 0 | J9: =J8+J7 -> 0 | K9: =K8+K7 -> 0 | L9: =L8+L7 -> 0 | M9: =M8+M7 -> 0 | N9: =N8+N7 -> 0
B12: PROVISÃO CPB | C12: =C3 -> 45658 | D12: =D3 -> 45689 | E12: =E3 -> 45717 | F12: =F3 -> 45748 | G12: =G3 -> 45778 | H12: =H3 -> 45809 | I12: =I3 -> 45839 | J12: =J3 -> 45870 | ... N12: =N3 -> 45992
B13: RECEITA CPB | C13: 1021549.3 | D13: 431306.09 | E13: 98683.77 | F13: 0 | G13: 0 | H13: 0 | I13: 0 | J13: 0 | K13: 0 | L13: 0 | M13: 0 | N13: 0 | P13: Receita | Q13: =SUM(C13:N13)+C17 -> 1576847.6 | R13: (Adt. total de Projeto CPB)
B14: DESPESA CPB | C14: =SUM(Balancete!O257) -> 755350.04 | D14: =SUM(Balancete!N257) -> 503540.97 | E14: =SUM(Balancete!M257) -> 166704.35 | F14: =SUM(Balancete!L257) -> 0 | G14: =SUM(Balancete!K257) -> 0 | H14: =SUM(Balancete!J257) -> 0 | I14: =SUM(Balancete!I257) -> 0 | J14: =SUM(Balancete!H257) -> 0 | K14: =SUM(Balancete!G257) -> 0 | L14: =SUM(Balancete!F257) -> 0 | M14: =Balancete!E257 -> 0 | N14: =SUM(Balancete!D257) -> 0 | P14: Despesa | Q14: =SUM(C14:N15) -> 1425595.4 | R14: (Receita realizada)
B15: ATIVOS FIXOS ADQUIRIDOS | C15: 0 | D15: 0 | E15: 0 | F15: 0 | G15: 0 | H15: 0 | I15: 0 | K15: 0 | L15: 0 | M15: 0 | N15: 0 | P15: Saldo | Q15: =Q13-Q14 -> 151252.21 | R15: =IF(Q15>=0,"Valor lançado no Passivo - 522","Valor lançado no Ativo - 552") -> Valor lançado no Passivo - 522
B16: SALDO | C16: =C13-C14-C15 -> 266199.27 | D16: =D13-D14-D15 -> -72234.88 | E16: =E13-E14-E15 -> -68020.58 | F16: =F13-F14-F15 -> 0 | G16: =G13-G14-G15 -> 0 | H16: =H13-H14-H15 -> 0 | I16: =I13-I14-I15 -> 0 | J16: =J13-J14-J15 -> 0 | ... N16: =N13-N14-N15 -> 0
B17: (-) PROVISÃO DO MÊS ANTERIOR | C17: 25308.4 | D17: =C18 -> 291507.67 | E17: =D18 -> 219272.79 | G17: =F18 -> 0 | H17: =G18 -> 0 | I17: =H18 -> 0 | J17: =I18 -> 0 | K17: =J18 -> 0 | L17: =K18 -> 0 | M17: =L18 -> 0 | N17: =M18 -> 0
B18: PROVISÃO ATUAL | C18: =C16+C17 -> 291507.67 | D18: =D16+D17 -> 219272.79 | E18: =E16+E17 -> 151252.21 | F18: =F17+F16 -> 0 | G18: =G17+G16 -> 0 | H18: =H17+H16 -> 0 | I18: =I17+I16 -> 0 | J18: =J17+J16 -> 0 | K18: =K17+K16 -> 0 | L18: =L17+L16 -> 0 | M18: =M17+M16 -> 0 | N18: =N17+N16 -> 0
B21: PROVISÃO SICONV | C21: =C12 -> 45658 | D21: =D12 -> 45689 | E21: =E12 -> 45717 | F21: =F12 -> 45748 | G21: =G12 -> 45778 | H21: =H12 -> 45809 | I21: =I12 -> 45839 | J21: =J12 -> 45870 | ... N21: =N12 -> 45992
B22: RECEITA SICONV | C22: 0 | D22: 0 | E22: 0 | F22: 0 | G22: 0 | H22: 0 | I22: 0 | J22: 0 | K22: 0 | L22: 0 | M22: 0 | N22: 0
B23: DESPESA SICONV | C23: =Balancete!O243 -> 0 | D23: =Balancete!N243*0 -> 0 | E23: =Balancete!M243 -> 0 | F23: =Balancete!L243 -> 0 | G23: =Balancete!K243 -> 0 | H23: =Balancete!L243 -> 0 | I23: =Balancete!M243 -> 0 | J23: =Balancete!H289 -> 3 | K23: =Balancete!G289 -> 2 | L23: =Balancete!F243 -> 0 | M23: =Balancete!E243 -> 0 | N23: =Balancete!D243 -> 0
B24: ATIVOS FIXOS ADQUIRIDOS | C24: 0 | D24: 0 | E24: 0 | F24: 0 | G24: 0 | H24: 0 | I24: 0 | J24: 0 | K24: 0 | L24: 0 | M24: 0 | N24: 0
B25: SALDO | C25: =C23-C22 -> 0 | D25: =D23-D22 -> 0 | E25: =E23-E22+E24 -> 0 | F25: =F23-F22+F24 -> 0 | G25: =G23-G22+G24 -> 0 | H25: =H23-H22+H24 -> 0 | I25: =I23-I22+I24 -> 0 | J25: =J23-J22+J24 -> 3 | K25: =K23-K22+K24 -> 2 | L25: =L23-L22+L24 -> 0 | ... N25: =N23-N22+N24 -> 0
B26: (-) PROVISÃO DO MÊS ANTERIOR | C26: 0 | D26: 0 | E26: 0 | F26: =E27 -> 0 | G26: =F27 -> 0 | H26: =G27 -> 0 | I26: =H27 -> 0 | J26: =I27 -> 0 | K26: =J27 -> -3 | L26: =K27 -> -5 | M26: =L27 -> -5 | N26: =M27 -> -5
B27: PROVISÃO ATUAL | C27: =C26 -> 0 | D27: 0 | E27: =E26-E25 -> 0 | F27: =F26-F25 -> 0 | G27: =G26-G25 -> 0 | H27: =H26-H25 -> 0 | I27: =I26-I25 -> 0 | J27: =J26-J25 -> -3 | K27: =K26-K25 -> -5 | L27: =L26-L25 -> -5 | ... N27: =N26-N25 -> -5
B29: PROVISÃO SOI (BB 14936-5) | C29: =C21 -> 45658 | D29: =D21 -> 45689 | E29: =E21 -> 45717 | F29: =F21 -> 45748 | G29: =G21 -> 45778 | H29: =H21 -> 45809 | I29: =I21 -> 45839 | J29: =J21 -> 45870 | ... N29: =N21 -> 45992
B30: RECEITA SOI | C30: 0 | D30: 0 | E30: 0 | G30: 0 | H30: 0 | I30: 0 | J30: 0 | K30: 0 | L30: 0 | M30: 0 | N30: 0 | Q30: =SUM(C30:N30)+C34 -> 0 | R30: (Adt. total de Projeto SOI) | U30: =SUM(G30:R30)+G34 -> 0
B31: DESPESA SOI | C31: =Balancete!O241 -> 0 | D31: =Balancete!N241 -> 0 | E31: =Balancete!M241 -> 0 | F31: =SUM(Balancete!L241) -> 0 | G31: =SUM(Balancete!K241) -> 0 | H31: =Balancete!J241 -> 0 | I31: =Balancete!I241 -> 0 | J31: =SUM(Balancete!H241) -> 0 | K31: =SUM(Balancete!G241) -> 0 | L31: =SUM(Balancete!F241) -> 0 | M31: =Balancete!E241 -> 0 | N31: 0 | Q31: =SUM(C31:N32) -> 0 | R31: (Receita realizada) | U31: =SUM(G31:R32) -> 0
B32: ATIVOS FIXOS ADQUIRIDOS | C32: 0 | D32: 0 | E32: 0 | F32: 0 | G32: 0 | H32: 0 | I32: 0 | J32: 0 | K32: 0 | L32: 0 | M32: 0 | N32: 0 | Q32: =Q30-Q31 -> 0 | R32: =IF(Q32>=0,"Valor lançado no Passivo - 641","Valor lançado no Ativo - 637") -> Valor lançado no Passivo - 641 | U32: =U30-U31 -> 0
B33: SALDO | C33: =C30-C31-C32 -> 0 | D33: =D30-D31-D32 -> 0 | E33: =E30-E31-E32 -> 0 | F33: =F30-F31-F32 -> 0 | G33: =G30-G31-G32 -> 0 | H33: =H30-H31-H32 -> 0 | I33: =I30-I31-I32 -> 0 | J33: =J30-J31-J32 -> 0 | ... N33: =N30-N31-N32 -> 0
B34: (-) PROVISÃO DO MÊS ANTERIOR | D34: =C35 -> 0 | E34: =D35 -> 0 | F34: =E35 -> 0 | G34: =F35 -> 0 | H34: =G35 -> 0 | I34: =H35 -> 0 | J34: =I35 -> 0 | K34: =J35 -> 0 | ... M34: =L35 -> 0
B35: PROVISÃO ATUAL | C35: =C33+C34 -> 0 | D35: =D33+D34 -> 0 | E35: =E33+E34 -> 0 | F35: =F33+F34 -> 0 | G35: =G33+G34 -> 0 | H35: =H33+H34 -> 0 | I35: =I33+I34 -> 0 | J35: =J33+J34 -> 0 | ... N35: =N33+N34 -> 0
L36: 78600.18
B37: PROVISÃO AGITOS (BB 12733-7) | C37: =C29 -> 45658 | D37: =D29 -> 45689 | E37: =E29 -> 45717 | F37: =F29 -> 45748 | G37: =G29 -> 45778 | H37: =H29 -> 45809 | I37: =I29 -> 45839 | J37: =J29 -> 45870 | ... N37: =N29 -> 45992
B38: RECEITA AGITOS | C38: 0 | D38: 0 | E38: 0 | F38: 0 | G38: 0 | H38: 0 | I38: 0 | J38: 0 | K38: 0 | L38: 0 | M38: 0 | N38: 0 | Q38: =SUM(C38:N38)+C42 -> 0 | U38: =SUM(G38:R38)+G42 -> 0
B39: DESPESA AGITOS | C39: 0 | D39: 0 | E39: 0 | F39: 0 | G39: 0 | H39: 0 | I39: 0 | J39: 0 | K39: 0 | L39: 0 | M39: 0 | N39: 0 | Q39: =SUM(C39:N40) -> 0 | U39: =SUM(G39:R40) -> 0
B40: ATIVOS FIXOS ADQUIRIDOS | C40: 0 | D40: 0 | E40: 0 | F40: 0 | G40: 0 | H40: 0 | I40: 0 | J40: 0 | K40: 0 | L40: 0 | M40: 0 | N40: 0 | Q40: =Q38-Q39 -> 0 | U40: =U38-U39 -> 0
B41: SALDO | C41: =C38-C39-C40 -> 0 | D41: =D38-D39-D40 -> 0 | E41: =E38-E39-E40 -> 0 | F41: =F38-F39-F40 -> 0 | G41: =G38-G39-G40 -> 0 | H41: 0 | I41: 0 | J41: 0 | K41: 0 | L41: 0 | M41: 0 | N41: =N38-N39 -> 0
B42: (-) PROVISÃO DO MÊS ANTERIOR | C42: 0 | D42: =C43 -> 0 | E42: =D43 -> 0 | F42: =E43 -> 0 | G42: =F43 -> 0 | H42: =G43 -> 0 | I42: =H43 -> 0 | J42: =I43 -> 0 | K42: =J43 -> 0 | ... N42: =M43 -> 0
B43: PROVISÃO ATUAL | C43: =C42 -> 0 | D43: =D42+D41 -> 0 | E43: =E42-E41 -> 0 | F43: =F42+F41 -> 0 | G43: =G42-G41 -> 0 | H43: =H42-H41 -> 0 | I43: =I42-I41 -> 0 | J43: =J42-J41 -> 0 | K43: =K42-K41 -> 0 | L43: =L42-L41 -> 0 | M43: =M42-M41 -> 0 | N43: =N42+N41 -> 0
B44: (obs. 1-> a despesa esta contabilizada na conta 333 Operacional Paralimpica)
B46: PROVISÃO FOMENTO SÃO CARLOS (CEF 1443-7) | C46: =C37 -> 45658 | D46: =D37 -> 45689 | E46: =E37 -> 45717 | F46: =F37 -> 45748 | G46: =G37 -> 45778 | H46: =H37 -> 45809 | I46: =I37 -> 45839 | J46: =J37 -> 45870 | ... N46: =N37 -> 45992
B47: RECEITA FOMENTO | C47: =Balancete!O221 -> 0 | D47: 0 | E47: 0 | F47: 0 | G47: 0 | H47: 0 | I47: 0 | J47: 0 | K47: 0 | L47: 0 | M47: 0 | N47: 0 | Q47: =SUM(C47:N47)+C51 -> 0 | U47: =SUM(G47:R47)+G51 -> 0
B48: DESPESA FOMENTO | C48: =Balancete!O568 -> 0 | D48: 0 | E48: 0 | F48: 0 | G48: 0 | H48: 0 | I48: 0 | J48: 0 | K48: 0 | L48: 0 | M48: 0 | N48: 0 | Q48: =SUM(C48:N49) -> 0 | U48: =SUM(G48:R49) -> 0
...

Sheet Balanco
B3: CBDN - CONFEDERAÇÃO BRASILEIRA DE DESPORTOS NA NEVE
B5: CNPJ 67.148.288/0001-17
B7: Balanço Patrimonial para o período encerrado em 31-03-2025
M9: Em Reais
S10: -24864 | T10: 247210
S11: 80368 | T11: 109687
B12: A T I V O | H12: PASSIVO E PATRIMÔNIO SOCIAL | S12: -82116 | T12: -144467
S13: 70752 | T13: -6983
B14: CIRCULANTE | H14: =B14 -> CIRCULANTE | S14: -109 | T14: 54715
B15: Caixa e Equivalente de Caixa | F15: =F24-F18-F16-F22-F19-F20-F21-F23-F17 -> 3966782.5 | H15: Fornecedores a Pagar | M15: =SUM(Balancete!M168) -> 0 | S15: 325135 | T15: -257670
B16: Creditos F.I.S | F16: =Balancete!M110 -> 3645828.8 | H16: Contas a Pagar | M16: =Balancete!M178 -> 89010.45 | P16: =P17-O17 -> -76595.92 | Q16: =Q17-P17 -> 254397.53 | S16: -37637 | T16: 24447
B17: Adiantamento a Pessoal | F17: =Balancete!M111 -> 400 | H17: Obrigações Trabalhistas | M17: =M24-M20-M16-M19-M18-M21-M22-M23-M15 -> 264002.68 | O17: ='[1]Balancete agosto 2017'!$D$70 -> -177801.61 | P17: ='[2]Balancete 2018 '!$H$70 -> -254397.53 | Q17: =Balancete!D157 -> 0 | S17: =SUM(S10:S16) -> 331529 | T17: =SUM(T10:T16) -> 26939
B18: Adiantamento a Atletas/Treinadores | F18: =Balancete!M117+Balancete!M116+Balancete!M114+Balancete!M115+Balancete!M113+Balancete!M112 -> 3135.65 | H18: Adiantamentos de Projetos* (Lei de incentivo) | M18: =Balancete!M192 -> 5882.4
B19: Adiantamento a Projeto (Lei Piva - CPB) | F19: =SUM(Balancete!M119) -> 0 | H19: Adiantamentos de Projetos* (L. Piva - COB) | M19: =Balancete!M186 -> 182144.23
B20: Adiantamento a Projeto (SOI) | F20: =Balancete!M121 -> 0 | H20: Adiantamentos de Projetos* (L. Piva - CPB) | M20: =Balancete!M187 -> 151252.21
B21: Importações em Andamento | F21: =Balancete!M124+Balancete!M125+Balancete!M126 -> 29633.9 | H21: Adiantamentos de Projetos* (SOI) | M21: =Balancete!M189 -> 0 | O21: ='[1]Balancete agosto 2017'!$C$311 -> 61060.59 | P21: ='[2]Balancete 2018 '!$C$320 -> 76595.92 | Q21: =Balancete!C516 -> 61694.46
B22: PIS a Recuperar | F22: =Balancete!M129 -> 0 | H22: Adiantamentos de Projetos* (Fomento São Carlos) | M22: =Balancete!M191 -> 0
B23: Despesas Antecipadas a Apropriar | F23: =Balancete!M130+Balancete!M131+Balancete!M132+Balancete!M133+Balancete!M135+Balancete!M134 -> 4820.98 | H23: Adiantamentos de Projetos* (COB Doação) | M23: =Balancete!M188 -> 0
C24: Total do Ativo Circulante | F24: =Balancete!M136 -> 7650601.9 | I24: Total do Passivo Circulante | M24: =Balancete!M194 -> 692291.97 | Q24: =Q17-P17 -> 254397.53
F25: =Balancete!M136-F24 -> 0 | M25: =Balancete!M194-Balanco!M24 -> 0
B27: NÃO CIRCULANTE | H27: PATRIMÔNIO SOCIAL
B28: INSS a Recuperar | F28: =SUM(Balancete!M140) -> 8086.88 | H28: Patrimonio Incorporado | M28: =Balancete!M198 -> 5961423.3
B29: PIS a Recuperar | F29: =SUM(Balancete!M141) -> 879.02 | H29: Resultado do Exercicio | M29: =Balancete!M199 -> -699488.15 | P29: =[2]Balanco!$F$27 -> 352314.36 | Q29: =[1]Balanco!$F$27 -> 343653.83
B30: Imobilizado | F30: =Balancete!M158 -> 1232517.8 | H30: Superávit de exercícios anteriores | M30: =SUM(Balancete!M197) -> 2937858.5 | P30: =F31-P29 -> 889169.37 | Q30: =P29-Q29 -> 8660.53
C31: Total do Ativo Não Circulante | F31: =F30+F28+F29 -> 1241483.7 | I31: Total do Patrimônio Social | M31: =M29+M28+M30 -> 8199793.6 | Q31: =F24-[2]Balanco!$F$20 -> 5421925.5
M32: =Balancete!M200-Balanco!M31 -> 0 | Q32: -100213
Q33: -161562
B34: TOTAL DO ATIVO | F34: =F31+F24 -> 8892085.6 | H34: TOTAL DO PASSIVO | M34: =M31+M24 -> 8892085.6 | Q34: =Q33-Q32 -> -61349 | S34: =[2]Balanco!$M$30 -> 2580990.8 | U34: =-M34+F34 -> 0
F35: =F34-Balancete!M162 -> 0 | M35: =M34-Balancete!M202 -> 0 | O35: =SUM(Balancete!D145:D154) -> 0 | P35: =SUM('[2]Balancete 2018 '!$H$60:$H$69) -> 606711.89 | S35: =S34-M34 -> -6311094.8
C36: * De acordo com a Interpretacao Tecnica ITG 2002, que estabelece procedimentos contabeis e de divulgacao para Entidades sem Fins Lucrativos, as receitas de projetos a serem executados em periodos futuros, devem ser escrituradas em contas especificas no Passivo (ou no Ativo, no caso de ocorrer o contrário). | P36: =O35-P35 -> -606711.89
P42: 26939
P43: -161562
M44: 45291 | U44: 45657
H45: Adiantamentos de Projetos* (Lei de incentivo) | M45: =[3]Balanco!M18 -> 83372.3 | U45: =[4]Balanco!M$18 -> 5882.4 | V45: =U45/M45-1 -> -0.92944419
H46: Adiantamentos de Projetos* (L. Piva - COB) | M46: =[3]Balanco!M19 -> 1392898.4 | U46: =[4]Balanco!$M$19 -> 1277499.1 | V46: =U46/M46-1 -> -0.082848373
H47: Adiantamentos de Projetos* (L. Piva - CPB) | M47: =[3]Balanco!M20 -> 1004694.9 | U47: =[4]Balanco!$M$20 -> 25308.4 | V47: =U47/M47-1 -> -0.97480986
H48: Adiantamentos de Projetos* (SOI) | M48: =[3]Balanco!M21 -> 0 | U48: =[4]Balanco!$M$21 -> 0 | V48: 0
H49: Adiantamentos de Projetos* (Fomento São Carlos) | M49: =[3]Balanco!M22 -> 0 | U49: =[4]Balanco!$M$22 -> 0 | V49: 0
H50: Adiantamentos de Projetos* (COB Doação) | M50: =[3]Balanco!M23 -> 32527.73 | U50: =[4]Balanco!$M$23 -> 0 | V50: =U50/M50-1 -> -1
H51: TOTAL PROJETOS | M51: =SUM(M45:M50) -> 2513493.3 | U51: =SUM(U45:U50) -> 1308689.9 | V51: =U51/M51-1 -> -0.47933426

Sheet DLP
B3: CBDN - CONFEDERAÇÃO BRASILEIRA DE DESPORTOS NA NEVE
F5: CNPJ 67.148.288/0001-17
C7: Demonstração do Déficit para o período encerrado em 31-03-2025
G9: Em Reais
C12: RECEITAS OPERACIONAIS
C13: Receita Lei Piva Comite Olimpico do Brasil | G13: =Balancete!C208 -> 2329578.3
C14: Receita Lei Piva Comite Paralimpico Brasileiro | G14: =Balancete!C209 -> 1425595.4
C15: Receita Solidariedade Olimpica | G15: =Balancete!C207 -> 0
C16: Receita Financeira Siconv IV | G16: =Balancete!C234 -> 0
C17: Receita Siconv IV | G17: =Balancete!C220 -> 0
C18: Subvenção IBU | G18: =Balancete!C213 -> 362280.79
C19: Subvenção FIS | G19: =Balancete!C211 -> 5749.87
C20: Receita Programa COB Doação | G20: =Balancete!C215 -> 0
C21: Receita da Lei de Incentivo (LIE) | G21: =SUM(Balancete!C222) -> 0
C22: Receitas Financeiras Comite Olimpico do Brasil | G22: =Balancete!C232 -> 15230.37
C23: Receitas Financeiras Comite Paralimpico Brasileiro | G23: =Balancete!C233 -> 15512.86
C24: Receitas Financeiras | G24: =Balancete!C230+Balancete!C231 -> 62810.76
C25: Receita com Participações em Provas | G25: =SUM(Balancete!C217) -> 0
C26: Receitas Trabalho Voluntário | G26: =Balancete!C210 -> 44287.45
C27: Receitas De Anuidades de Filiação | G27: =Balancete!C225 -> 0
C28: Receita com Patrocínio | G28: =Balancete!C224 -> 800.02
C29: Receita Subvenção Agitos | G29: =Balancete!C214 -> 0
C30: Receita com Inscrições | G30: =Balancete!C216 -> 2160
C31: Receita Expo Brasil Paralímpico | G31: =SUM(Balancete!E228) -> 0
C32: Outras Receitas | G32: =Balancete!C223+Balancete!C212+Balancete!C227+Balancete!C229 -> 0
G33: =SUM(G13:G32) -> 4264005.8 | H33: =G33-Balancete!C235 -> 0
C35: DESPESAS OPERACIONAIS
C36: Desp c/ convenio ME N° 870519/2017 | G36: =Balancete!C243 -> 0 | H36: Ativo
C37: Programa Lei Piva Comite Olimpico do Brasil | G37: =Balancete!C247+Balancete!C249+Balancete!C251+Balancete!C253+Balancete!C255+Balancete!C245 -> 2323283.8 | H37: =G13-G37 -> 6294.49 | I37: =H37-SUM('Provisão Piva e CPB'!C6:N6) -> 2.237357e-10
C38: Programa Lei Piva Comite Paralimpico Brasileiro | G38: =Balancete!C257 -> 1425595.4 | H38: =G14-G38 -> 0 | I38: =H38-SUM('Provisão Piva e CPB'!C15:N15) -> 0 | J38: =SUM(I37:I39) -> 2.237357e-10
C39: Despesas Convenio ME | G39: 0
C40: Programa Solidariedade Olimpica | G40: =Balancete!C241 -> 0 | H40: =G40-G15 -> 0
C41: Despesas Trabalho Voluntário | G41: =SUM(Balancete!C479) -> 44287.45
C42: Programa COB Doação | G42: =Balancete!C261 -> 0 | H42: =G42-G20 -> 0
C43: Administrativas | G43: =Balancete!C263 -> 105638
C44: Gerais | G44: =(Balancete!C265) -> 592192.14
C45: Comunicação | G45: =Balancete!C267 -> 15000
C46: Tributárias | G46: =Balancete!C269 -> 13760.97
C47: Financeiras e Variação Cambial | G47: =Balancete!C271 -> 443736.2
C48: Outras Despesas | G48: =Balancete!C273 -> 0 | H48: =G49-Balancete!C275 -> 0
...

Sheet DRE
B1: CBDN - CONFEDERAÇÃO BRASILEIRA DE DESPORTOS NA NEVE
B2: CNPJ 67.148.288/0001-17
B4: Demonstração do Resultado do Exercício para o período encerrado em 31-03-2025
O6: Em Reais
B8: RECEITAS | C8: 2025 | D8: 46022 | E8: 45991 | F8: 45961 | G8: 45930 | H8: 45900 | I8: 45869 | J8: 45838 | K8: 45808 | L8: 45777 | M8: 45747 | N8: 45716 | O8: 45688
B9: R - Lei Piva Comitê Olímpico do Brasil | C9: =SUM(D9:O9) -> 2329578.3 | D9: =Balancete!D208 -> 0 | E9: =Balancete!E208 -> 0 | F9: =Balancete!F208 -> 0 | G9: =Balancete!G208 -> 0 | H9: =Balancete!H208 -> 0 | I9: =Balancete!I208 -> 0 | J9: =Balancete!J208 -> 0 | K9: =Balancete!K208 -> 0 | ... O9: =Balancete!O208 -> 1220900.3
B10: R - Lei Piva Comitê Paralímpico Brasileiro | C10: =SUM(D10:O10) -> 1425595.4 | D10: =Balancete!D209 -> 0 | E10: =Balancete!E209 -> 0 | F10: =Balancete!F209 -> 0 | G10: =Balancete!G209 -> 0 | H10: =Balancete!H209 -> 0 | I10: =Balancete!I209 -> 0 | J10: =Balancete!J209 -> 0 | K10: =Balancete!K209 -> 0 | ... O10: =Balancete!O209 -> 755350.04
B11: R - Convenio/Termo de fomento | C11: =SUM(D11:O11) -> 0 | D11: 0 | E11: 0 | F11: 0 | G11: 0 | H11: 0 | I11: 0 | J11: 0 | K11: 0 | L11: 0 | M11: 0 | N11: 0 | O11: 0
B12: R - Lei de Incentivo Paulista | C12: =SUM(D12:O12) -> 0 | D12: 0 | E12: 0 | F12: 0 | G12: 0 | H12: 0 | I12: 0 | J12: 0 | K12: 0 | L12: 0 | M12: 0 | N12: 0 | O12: 0
B13: R - Lei de Incentivo Federal | C13: =SUM(D13:O13) -> 0 | D13: =Balancete!D222 -> 0 | E13: =Balancete!E222 -> 0 | F13: =Balancete!F222 -> 0 | G13: =Balancete!G222 -> 0 | H13: =Balancete!H222 -> 0 | I13: =Balancete!I222 -> 0 | J13: =Balancete!J222 -> 0 | K13: =Balancete!K222 -> 0 | ... O13: =Balancete!O222 -> 0
B14: R - Snow Club | C14: =SUM(D14:O14) -> 0 | D14: 0 | E14: 0 | F14: 0 | G14: 0 | H14: 0 | I14: 0 | J14: 0 | K14: 0 | L14: 0 | M14: 0 | N14: 0 | O14: 0
B15: R - Inscrições | C15: =SUM(D15:O15) -> 2160 | D15: =Balancete!D216+Balancete!D217 -> 0 | E15: =Balancete!E216+Balancete!E217 -> 0 | F15: =Balancete!F216+Balancete!F217 -> 0 | G15: =Balancete!G216+Balancete!G217 -> 0 | H15: =Balancete!H216+Balancete!H217 -> 0 | I15: =Balancete!I216+Balancete!I217 -> 0 | J15: =Balancete!J216+Balancete!J217 -> 0 | K15: =Balancete!K216+Balancete!K217 -> 0 | ... O15: =Balancete!O216+Balancete!O217 -> 1210
B16: R - Patrocínios | C16: =SUM(D16:O16) -> 800.02 | D16: =Balancete!D224 -> 0 | E16: =Balancete!E224 -> 0 | F16: =Balancete!F224 -> 0 | G16: =Balancete!G224 -> 0 | H16: =Balancete!H224 -> 0 | I16: =Balancete!I224 -> 0 | J16: =Balancete!J224 -> 0 | K16: =Balancete!K224 -> 0 | ... O16: =Balancete!O224 -> 277.09
B17: R - Proj. Pesquisa e Informação | C17: =SUM(D17:O17) -> 0 | D17: 0 | E17: 0 | F17: 0 | G17: 0 | H17: 0 | I17: 0 | J17: 0 | K17: 0 | L17: 0 | M17: 0 | N17: 0 | O17: 0
B18: R - Doações | C18: =SUM(D18:O18) -> 0 | D18: =Balancete!D212+Balancete!D215+Balancete!D228 -> 0 | E18: =Balancete!E212+Balancete!E215+Balancete!E228 -> 0 | F18: =Balancete!F212+Balancete!F215+Balancete!F228 -> 0 | G18: =Balancete!G212+Balancete!G215+Balancete!G228 -> 0 | H18: =Balancete!H212+Balancete!H215+Balancete!H228 -> 0 | I18: =Balancete!I212+Balancete!I215+Balancete!I228 -> 0 | J18: =Balancete!J212+Balancete!J215+Balancete!J228 -> 0 | K18: =Balancete!K212+Balancete!K215+Balancete!K228 -> 0 | ... O18: =Balancete!O212+Balancete!O215+Balancete!O228 -> 0
B19: R - Direitos de televisionamento | C19: =SUM(D19:O19) -> 0 | D19: 0 | E19: 0 | F19: 0 | G19: 0 | H19: 0 | I19: 0 | J19: 0 | K19: 0 | L19: 0 | M19: 0 | N19: 0 | O19: 0
B20: R - Outras Receitas | C20: =SUM(D20:O20) -> 0 | D20: =SUM(Balancete!D223) -> 0 | E20: =SUM(Balancete!E223) -> 0 | F20: =SUM(Balancete!F223) -> 0 | G20: =SUM(Balancete!G223) -> 0 | H20: =SUM(Balancete!H223) -> 0 | I20: =SUM(Balancete!I223) -> 0 | J20: =SUM(Balancete!J223) -> 0 | K20: =SUM(Balancete!K223) -> 0 | ... O20: =SUM(Balancete!O223) -> 0
B21: R - FIS | C21: =SUM(D21:O21) -> 5749.87 | D21: =Balancete!D211 -> 0 | E21: =Balancete!E211 -> 0 | F21: =Balancete!F211 -> 0 | G21: =Balancete!G211 -> 0 | H21: =Balancete!H211 -> 0 | I21: =Balancete!I211 -> 0 | J21: =Balancete!J211 -> 0 | K21: =Balancete!K211 -> 0 | ... O21: =Balancete!O211 -> 5749.87
B22: R - IBU | C22: =SUM(D22:O22) -> 362280.79 | D22: =Balancete!D213 -> 0 | E22: =Balancete!E213 -> 0 | F22: =Balancete!F213 -> 0 | G22: =Balancete!G213 -> 0 | H22: =Balancete!H213 -> 0 | I22: =Balancete!I213 -> 0 | J22: =Balancete!J213 -> 0 | K22: =Balancete!K213 -> 0 | ... O22: =Balancete!O213 -> 128816.34
B23: R - AGITOS | C23: =SUM(D23:O23) -> 0 | D23: =Balancete!D214 -> 0 | E23: =Balancete!E214 -> 0 | F23: =Balancete!F214 -> 0 | G23: =Balancete!G214 -> 0 | H23: =Balancete!H214 -> 0 | I23: =Balancete!I214 -> 0 | J23: =Balancete!J214 -> 0 | K23: =Balancete!K214 -> 0 | ... O23: =Balancete!O214 -> 0
B24: R - SOI | C24: =SUM(D24:O24) -> 0 | D24: =Balancete!D207 -> 0 | E24: =Balancete!E207 -> 0 | F24: =Balancete!F207 -> 0 | G24: =Balancete!G207 -> 0 | H24: =Balancete!H207 -> 0 | I24: =Balancete!I207 -> 0 | J24: =Balancete!J207 -> 0 | K24: =Balancete!K207 -> 0 | ... O24: =Balancete!O207 -> 0
B25: R - SOI (deferred revenue) | C25: =SUM(D25:O25) -> 0 | D25: 0 | E25: 0 | F25: 0 | G25: 0 | H25: 0 | I25: 0 | J25: 0 | K25: 0 | L25: 0 | M25: 0 | N25: 0 | O25: 0
B26: R - AGITOS (deferred revenue) | C26: =SUM(D26:O26) -> 0 | D26: 0 | E26: 0 | F26: 0 | G26: 0 | H26: 0 | I26: 0 | J26: 0 | K26: 0 | L26: 0 | M26: 0 | N26: 0 | O26: 0
B27: TOTAL RECEITAS OPERACIONAIS | C27: =SUM(C9:C26) -> 4126164.4 | D27: =SUM(D9:D26) -> 0 | E27: =SUM(E9:E26) -> 0 | F27: =SUM(F9:F26) -> 0 | G27: =SUM(G9:G26) -> 0 | H27: =SUM(H9:H26) -> 0 | I27: =SUM(I9:I26) -> 0 | J27: =SUM(J9:J26) -> 0 | ... O27: =SUM(O9:O26) -> 2112303.7
B29: CD - Lei Piva Comitê Olímpico do Brasil | C29: =SUM(D29:O29) -> -1770238.1 | D29: =-SUM(Balancete!D293:D295,Balancete!D298,Balancete!D328,Balancete!D365:D366,Balancete!D369:D373,Balancete!D389:D390,Balancete!D397,Balancete!D400:D401) -> 0 | E29: =-SUM(Balancete!E293:E295,Balancete!E298,Balancete!E328,Balancete!E365:E366,Balancete!E369:E373,Balancete!E389:E390,Balancete!E397,Balancete!E400:E401) -> 0 | F29: =-SUM(Balancete!F293:F295,Balancete!F298,Balancete!F328,Balancete!F365:F366,Balancete!F369:F373,Balancete!F389:F390,Balancete!F397,Balancete!F400:F401) -> 0 | G29: =-SUM(Balancete!G293:G295,Balancete!G298,Balancete!G328,Balancete!G365:G366,Balancete!G369:G373,Balancete!G389:G390,Balancete!G397,Balancete!G400:G401) -> 0 | H29: =-SUM(Balancete!H293:H295,Balancete!H298,Balancete!H328,Balancete!H365:H366,Balancete!H369:H373,Balancete!H389:H390,Balancete!H397,Balancete!H400:H401) -> 0 | I29: =-SUM(Balancete!I293:I295,Balancete!I298,Balancete!I328,Balancete!I365:I366,Balancete!I369:I373,Balancete!I389:I390,Balancete!I397,Balancete!I400:I401) -> 0 | J29: =-SUM(Balancete!J293:J295,Balancete!J298,Balancete!J328,Balancete!J365:J366,Balancete!J369:J373,Balancete!J389:J390,Balancete!J397,Balancete!J400:J401) -> 0 | K29: =-SUM(Balancete!K293:K295,Balancete!K298,Balancete!K328,Balancete!K365:K366,Balancete!K369:K373,Balancete!K389:K390,Balancete!K397,Balancete!K400:K401) -> 0 | L29: =-SUM(Balancete!L293:L295,Balancete!L298,Balancete!L328,Balancete!L365:L366,Balancete!L369:L373,Balancete!L389:L390,Balancete!L397,Balancete!L400:L401) -> 0 | M29: =-SUM(Balancete!M293:M296,Balancete!M298,Balancete!M328,Balancete!M365:M366,Balancete!M369:M373,Balancete!M389:M390,Balancete!M397,Balancete!M400:M401) -> -265269.72 | N29: =-SUM(Balancete!N293:N295,Balancete!N298,Balancete!N328,Balancete!N365:N366,Balancete!N369:N373,Balancete!N389:N390,Balancete!N397,Balancete!N400:N401) -> -472818.18 | O29: =-SUM(Balancete!O293:O296,Balancete!O298,Balancete!O328,Balancete!O365:O366,Balancete!O369:O373,Balancete!O389:O390,Balancete!O397,Balancete!O400:O401) -> -1032150.2
B30: CD - Lei Piva Comitê Paralímpico Brasileiro | C30: =SUM(D30:O30) -> -1189391.9 | D30: =-SUM(Balancete!D404:D406,Balancete!D409:D410,Balancete!D413:D414,Balancete!D433:D435,Balancete!D439:D441,Balancete!D444,Balancete!D447,Balancete!D450:D454,Balancete!D462,Balancete!D464:D465,Balancete!D468) -> 0 | E30: =-SUM(Balancete!E404:E406,Balancete!E409:E410,Balancete!E413:E414,Balancete!E433:E435,Balancete!E439:E441,Balancete!E444,Balancete!E447,Balancete!E450:E454,Balancete!E462,Balancete!E464:E465,Balancete!E468) -> 0 | F30: =-SUM(Balancete!F404:F406,Balancete!F409:F410,Balancete!F413:F414,Balancete!F433:F435,Balancete!F439:F441,Balancete!F444,Balancete!F447,Balancete!F450:F454,Balancete!F462,Balancete!F464:F465,Balancete!F468) -> 0 | G30: =-SUM(Balancete!G404:G406,Balancete!G409:G410,Balancete!G413:G414,Balancete!G433:G435,Balancete!G439:G441,Balancete!G444,Balancete!G447,Balancete!G450:G454,Balancete!G462,Balancete!G464:G465,Balancete!G468) -> 0 | H30: =-SUM(Balancete!H404:H406,Balancete!H409:H410,Balancete!H413:H414,Balancete!H433:H435,Balancete!H439:H441,Balancete!H444,Balancete!H447,Balancete!H450:H454,Balancete!H462,Balancete!H464:H465,Balancete!H468) -> 0 | I30: =-SUM(Balancete!I404:I406,Balancete!I409:I410,Balancete!I413:I414,Balancete!I433:I435,Balancete!I439:I441,Balancete!I444,Balancete!I447,Balancete!I450:I454,Balancete!I462,Balancete!I464:I465,Balancete!I468) -> 0 | J30: =-SUM(Balancete!J404:J406,Balancete!J409:J410,Balancete!J413:J414,Balancete!J433:J435,Balancete!J439:J441,Balancete!J444,Balancete!J447,Balancete!J450:J454,Balancete!J462,Balancete!J464:J465,Balancete!J468) -> 0 | K30: =-SUM(Balancete!K404:K406,Balancete!K409:K410,Balancete!K413:K414,Balancete!K433:K435,Balancete!K439:K441,Balancete!K444,Balancete!K447,Balancete!K450:K454,Balancete!K462,Balancete!K464:K465,Balancete!K468) -> 0 | ... O30: =-SUM(Balancete!O404:O406,Balancete!O409:O410,Balancete!O413:O414,Balancete!O433:O435,Balancete!O439:O441,Balancete!O444,Balancete!O447,Balancete!O450:O454,Balancete!O462,Balancete!O464:O465,Balancete!O468) -> -683056.34
B31: CD - Convênio 760724/2011 | C31: =SUM(D31:O31) -> 0 | D31: 0 | E31: 0 | F31: 0 | G31: 0 | H31: 0 | I31: 0 | J31: 0 | K31: 0 | L31: 0 | M31: 0 | N31: 0 | O31: 0
B32: CD - Convênio 776457/2012 | C32: =SUM(D32:O32) -> 0 | D32: 0 | E32: 0 | F32: 0 | G32: 0 | H32: 0 | I32: 0 | J32: 0 | K32: 0 | L32: 0 | M32: 0 | N32: 0 | O32: 0
B33: CD - Convênio 812775/2014 | C33: =SUM(D33:O33) -> 0 | D33: 0 | E33: 0 | F33: 0 | G33: 0 | H33: 0 | I33: 0 | J33: 0 | K33: 0 | L33: 0 | M33: 0 | N33: 0 | O33: 0
B34: CD - Convênios/Termo de Fomento | C34: =SUM(D34:O34) -> 0 | D34: 0 | E34: 0 | F34: 0 | G34: 0 | H34: 0 | I34: 0 | J34: 0 | K34: 0 | L34: 0 | M34: 0 | N34: 0 | O34: 0
B35: CD - Lei de Incentivo Paulista | C35: =SUM(D35:O35) -> 0 | D35: 0 | E35: 0 | F35: 0 | G35: 0 | H35: 0 | I35: 0 | J35: 0 | K35: 0 | L35: 0 | M35: 0 | N35: 0 | O35: 0
B36: CD - Lei de Incentivo Federal | C36: =SUM(D36:O36) -> 0 | D36: 0 | E36: 0 | F36: 0 | G36: 0 | H36: 0 | I36: 0 | J36: 0 | K36: 0 | L36: 0 | M36: 0 | N36: 0 | O36: 0
B37: CD - IBU Development | C37: =SUM(D37:O37) -> 0 | D37: 0 | E37: 0 | F37: 0 | G37: 0 | H37: 0 | I37: 0 | J37: 0 | K37: 0 | L37: 0 | M37: 0 | N37: 0 | O37: 0
B38: CD - Snow Club | C38: =SUM(D38:O38) -> 0 | D38: 0 | E38: 0 | F38: 0 | G38: 0 | H38: 0 | I38: 0 | J38: 0 | K38: 0 | L38: 0 | M38: 0 | N38: 0 | O38: 0
B39: CD - Agencia Atletas | C39: =SUM(D39:O39) -> -15000 | D39: =-SUM(Balancete!D494,Balancete!D582) -> 0 | E39: =-SUM(Balancete!E494,Balancete!E582) -> 0 | F39: =-SUM(Balancete!F494,Balancete!F582) -> 0 | G39: =-SUM(Balancete!G494,Balancete!G582) -> 0 | H39: =-SUM(Balancete!H494,Balancete!H582) -> 0 | I39: =-SUM(Balancete!I494,Balancete!I582) -> 0 | J39: =-SUM(Balancete!J494,Balancete!J582) -> 0 | K39: =-SUM(Balancete!K494,Balancete!K582) -> 0 | ... O39: =-SUM(Balancete!O494,Balancete!O582) -> -10000
B40: CD - Proj. Pesquisa & Informação | C40: =SUM(D40:O40) -> 0 | D40: 0 | E40: 0 | F40: 0 | G40: 0 | H40: 0 | I40: 0 | J40: 0 | K40: 0 | L40: 0 | M40: 0 | N40: 0 | O40: 0
B41: CD - Direitos de Televisionamento | C41: =SUM(D41:O41) -> 0 | D41: 0 | E41: 0 | F41: 0 | G41: 0 | H41: 0 | I41: 0 | J41: 0 | K41: 0 | L41: 0 | M41: 0 | N41: 0 | O41: 0
B42: CD - Paralímpico | C42: =SUM(D42:O42) -> -44475.33 | D42: =-Balancete!D562 -> 0 | E42: =-Balancete!E562 -> 0 | F42: =-Balancete!F562 -> 0 | G42: =-Balancete!G562 -> 0 | H42: =-Balancete!H562 -> 0 | I42: =-Balancete!I562 -> 0 | J42: =-Balancete!J562 -> 0 | K42: =-Balancete!K562 -> 0 | ... O42: =-Balancete!O562 -> -6076.28
B43: CD - Técnico Esportivo | C43: =SUM(D43:O43) -> -520795.12 | D43: =-SUM(Balancete!D571:D573,Balancete!D561,Balancete!D543:D559,Balancete!D539:D541,Balancete!D489:D493,Balancete!D487,Balancete!D523) -> 0 | E43: =-SUM(Balancete!E571:E573,Balancete!E561,Balancete!E543:E559,Balancete!E539:E541,Balancete!E489:E493,Balancete!E487,Balancete!E523) -> 0 | F43: =-SUM(Balancete!F571:F573,Balancete!F561,Balancete!F543:F559,Balancete!F539:F541,Balancete!F489:F493,Balancete!F487,Balancete!F523) -> 0 | G43: =-SUM(Balancete!G571:G573,Balancete!G561,Balancete!G543:G559,Balancete!G539:G541,Balancete!G489:G493,Balancete!G487,Balancete!G523) -> 0 | H43: =-SUM(Balancete!H571:H573,Balancete!H561,Balancete!H543:H559,Balancete!H539:H541,Balancete!H489:H493,Balancete!H487,Balancete!H523) -> 0 | I43: =-SUM(Balancete!I571:I573,Balancete!I561,Balancete!I543:I559,Balancete!I539:I541,Balancete!I489:I493,Balancete!I487,Balancete!I523) -> 0 | J43: =-SUM(Balancete!J571:J573,Balancete!J561,Balancete!J543:J559,Balancete!J539:J541,Balancete!J489:J493,Balancete!J487,Balancete!J523) -> 0 | K43: =-SUM(Balancete!K571:K573,Balancete!K561,Balancete!K543:K559,Balancete!K539:K541,Balancete!K489:K493,Balancete!K487,Balancete!K523) -> 0 | ... O43: =-SUM(Balancete!O571:O573,Balancete!O561,Balancete!O543:O559,Balancete!O539:O541,Balancete!O489:O493,Balancete!O487,Balancete!O523) -> -17439.64
B44: CD - AGITOS | C44: =SUM(D44:O44) -> 0 | D44: =0 -> 0 | E44: =0 -> 0 | F44: =0 -> 0 | G44: =0 -> 0 | H44: =0 -> 0 | I44: =0 -> 0 | J44: =0 -> 0 | K44: =0 -> 0 | ... O44: =0 -> 0
...
